Workbook

Sheet NGAY THANG
J4: 5
J5: 6
J6: 7
B7: TONG TS | C7: =BCTinhHinhTaiChinh_06105!E41-BCTaiSan_06134!D32 -> 0 | D7: =BCTinhHinhTaiChinh_06105!F41-BCTaiSan_06134!E32 -> 0 | J7: 8
B8: TONG NO | C8: =BCTinhHinhTaiChinh_06105!E74-BCTaiSan_06134!D64 -> 0 | D8: =BCTinhHinhTaiChinh_06105!F74-BCTaiSan_06134!E64 -> 0 | J8: 9
B9: NAV | C9: =BCTinhHinhTaiChinh_06105!E75-BCTaiSan_06134!D65 -> 0 | D9: =BCTinhHinhTaiChinh_06105!F75-BCTaiSan_06134!E65 -> 0 | J9: 10
B10: THU NHAP | C10: =BCThuNhap_06203!F14-BCThuNhap_06203!F18-BCThuNhap_06203!F22-BCKetQuaHoatDong_06135!D14 -> 0 | J10: 11
B11: CHI PHI | C11: =BCThuNhap_06203!F26+BCThuNhap_06203!F31-BCKetQuaHoatDong_06135!D19 -> 0 | D11: =BCThuNhap_06203!G26+BCThuNhap_06203!G31-BCKetQuaHoatDong_06135!F19 -> 0 | J11: 12
B12: THU NHAP CHI PHI | C12: =BCTinhHinhTaiChinh_06105!E80-BCTinhHinhTaiChinh_06105!F80-BCThuNhap_06203!F63 -> 0 | D12: =BCKetQuaHoatDong_06135!D54+BCKetQuaHoatDong_06135!D53-BCThuNhap_06203!F63 -> 0
B13: GIA TRI DANH MUC | C13: =BCDanhMucDauTu_06136!F59-BCTaiSan_06134!D32 -> 0 | D13: =B03_181!D22-BCTinhHinhTaiChinh_06105!E75 -> 0
C17: Năm 2026/Year 2026
C20: Ngày 15 tháng 10 năm 2026 15/10/2026
C21: Tại ngày 30 tháng 09 năm 2026 - As at 30 September 2026
C23: Quý III năm 2026 /Quarter III 2026
C25: Qúy III năm 2026 Quarter III 2026 | D25: Qúy II năm 2026 Quarter II 2026

Sheet Tong quat
B2: BÁO CÁO CHUNG VỀ HOẠT ĐỘNG ĐẦU TƯ CỦA QUỸ ETF ETF
C4: Kỳ báo cáo: | D4: Tháng
C5: Tháng/Quý: | D5: 1
C6: Năm: | D6: 2025 | J6: Tháng
J7: Quý
A8: Tên Công ty quản lý quỹ: Công Ty TNHH Quản Lý Quỹ SSI | J8: Năm
A9: Tên Ngân hàng giám sát: Ngân hàng TMCP Đầu tư và Phát triển Việt Nam - Chi nhánh Hà Thành
A10: Tên Quỹ: Quỹ ETF SSIAM VNX50 | J10: 1 | K10: I
A11: Ngày lập báo cáo: Ngày 04 tháng 02 năm 2025 | J11: 2 | K11: II
J12: 3 | K12: III
J13: 4 | K13: IV
D14: Thông tư số 229/2012/TT-BTC, Phụ lục số 18 | J14: 5
J15: 6
J16: 7
B17: STT | C17: Nội dung | D17: Tên sheet | J17: 8
B18: 1 | C18: Báo cáo về tài sản của quỹ | D18: BCTaiSan_06134 | J18: 9
B19: 2 | C19: Báo cáo kết quả hoạt động | D19: BCKetQuaHoatDong_06135 | J19: 10
B20: 3 | C20: Báo cáo danh mục đầu tư của quỹ | D20: BCDanhMucDauTu_06136 | J20: 11
B21: 4 | C21: Một số chỉ tiêu khác | D21: Khac_06137 | J21: 12
B24: Ghi chú | C24: Không đổi tên sheet
C25: Những chỉ tiêu không có số liệu có thể không phải trình bày nhưng không được đánh lại “Mã chỉ tiêu”.
B31: Đại diện có thẩm quyền của | D31: (Tổng) Giám đốc
B32: ngân hàng giám sát | D32: công ty quản lý quỹ
B33: (Ký, ghi rõ họ tên và đóng dấu) | D33: (Ký, ghi rõ họ tên và đóng dấu)

Sheet BCLCGT_06262
A1: Mẫu số B05g - QM. Báo cáo lưu chuyển tiền tệ Template B05g - QM. Cash flow statement
A2: (Ban hành kèm theo Thông tư số 181/2015/TT-BTC ngày 13 tháng 11 năm 2015 của Bộ Tài chính hướng dẫn thành lập và quản lý quỹ hoán đổi danh mục) (Issued in association with Circular 181/2015/TT-BTC guiding establishment and management of Exchange Traded Fund)
A3: BÁO CÁO LƯU CHUYỂN TIỀN TỆ CASH FLOW STATEMENT
A5: Quý III năm 2026 /Quarter III 2026
A7: Tên Công ty quản lý quỹ: | B7: Công ty Cổ phần Quản lý Quỹ Việt Cát
A8: Management Fund Company: | B8: Vietnam Fortune Fund Management JSC
A9: Tên ngân hàng giám sát: | B9: Ngân Hàng TMCP Đầu tư và Phát triển Việt Nam - Chi nhánh Hà Thành
A10: Supervising bank: | B10: Bank for Investment and Development of Vietnam Jsc - Hathanh Branch
A11: Tên Quỹ: | B11: QUỸ ETF VFCVN DIAMOND
A12: Fund name: | B12: VFCVN DIAMOND ETF
A13: Mã Chứng Khoán | B13: FUETPVND
A14: Code | B14: FUETPVND
A15: Ngày lập báo cáo: | B15: Ngày 15 tháng 10 năm 2026 15/10/2026
A16: Reporting Date:
A18: Chỉ tiêu Indicator | B18: Mã số Code | C18: Thuyết minh Note | D18: Qúy III năm 2026 Quarter III 2026 | E18: Qúy II năm 2026 Quarter II 2026
A19: I. Lưu chuyển tiền từ hoạt động đầu tư Cash flow from investing activities | B19: I
A20: 1. Lợi nhuận trước Thuế thu nhập doanh nghiệp Profit before income tax | B20: 01 | D20: -5086963247 | E20: -1322424621
A21: 1.1 Lợi nhuận trước Thuế thu nhập doanh nghiệp Net loss before corporate income tax | B21: 01.1 | D21: -5086963247 | E21: -1322424621
A22: 2. Điều chỉnh cho các khoản tăng giá trị tài sản ròng từ các hoạt động đầu tư Adjustment for NAV increase from investing activities | B22: 02 | D22: 5046095700 | E22: 1567883545
A23: (- lãi) hoặc (+ lỗ) chênh lệch tỷ giá hối đoái/ đánh giá lại các khoản đầu tư chưa thực hiện Unreliased Gain or (Loss) from FX valuation/Investment revaluation | B23: 02.1 | D23: 5046095700 | E23: 1567883545
A24: (+) chi phí trích trước Increase of Accrued Expenses | B24: 02.2
A25: Điều chỉnh lỗ/(lợi nhuận) do việc mua hộ chứng khoán hạn chế Adjustments for (gain)/loss from buying Restricted Securities | B25: 02.3
A26: Điều chỉnh lỗ/(lợi nhuận) do việc mua lại chứng chỉ quỹ Adjustments for (gain)/loss from redemption activities | B26: 0.24 | D26: 0 | E26: 0
A27: 3. Lợi nhuận từ hoạt động đầu tư trước thay đổi vốn lưu động Profit from investing activities before changes in working capital | B27: 05 | D27: -40867547 | E27: 245458924
A28: (-) Tăng (+) giảm đầu tư (Increase), Decrease Investments | B28: 20 | D28: -171000000 | E28: 823247405
A29: (-) Tăng, (+) giảm phải thu bán chứng khoán đầu tư (Increase), Decrease in Receivables from investments sold but not yet settled | B29: 06 | D29: 0 | E29: 0
A30: (-) Tăng, (+) giảm dự thu phải thu tiền lãi các khoản đầu tư (Increase), Decrease in Dividend and interest receivables | B30: 07 | D30: 0 | E30: 36500000
A31: (-) Tăng, (+) giảm các khoản phải thu khác (Increase), Decrease in other receivables | B31: 08 | D31: 8628497 | E31: 7916716
A32: (+) Tăng, (-) giảm vay ngắn hạn Increase, (Decrease) in Short term Loans | B32: 09
A33: (+) Tăng, (-) giảm phải trả cho người bán (Decrease), Increase in payables for securities purchased but not yet settled | B33: 10 | D33: 0 | E33: 0
A34: (+) Tăng, (-) giảm phải trả các Đại lý phân phối Chứng chỉ quỹ, Công ty Quản lý Quỹ (Decrease)/increase in subscription and redemption fee payable to distributors and Fund Management Company | B34: 11 | D34: 0 | E34: 0
A35: (+) Tăng, (-) giảm phải trả thu nhập cho Nhà đầu tư Increase, (Decrease) profit distribution payables | B35: 12 | D35: 0 | E35: 0
A36: (+) Tăng, (-) giảm Thuế và các khoản phải nộp Nhà nước Increase, (Decrease) Tax payables and obligations to the State Budget | B36: 13 | D36: 0 | E36: 0
A37: (+) Tăng, (-) giảm phải trả cho Nhà đầu tư về mua Chứng chỉ quỹ Increase, (Decrease) Subscription Suspense Payable | B37: 14 | D37: 0 | E37: 0
A38: (+) Tăng, (-) giảm phải trả cho Nhà đầu tư về mua lại Chứng chỉ quỹ Increase, (Decrease) Redemption payable | B38: 15 | D38: 0 | E38: 0
A39: (+) Tăng, (-) giảm phải trả, phải nộp khác Increase, (Decrease) Other payables | B39: 16 | D39: -24681438 | E39: 21739498
A40: (+) Tăng, (-) giảm Phải trả dịch vụ quản lý Quỹ mở Increase, (Decrease) Fund management related service expense payable | B40: 17 | D40: 59192221 | E40: -121024450
A41: (+) Tăng, (-) giảm Thuế Thu nhập doanh nghiệp đã nộp Increase, (Decrease) Income Tax Payment | B41: 18
A42: Lưu chuyển tiền thuần từ hoạt động đầu tư (1+2+3) Net Cash flow from Investing activities | B42: 19 | D42: -168728267 | E42: 1013838093
A43: II. Lưu chuyển tiền từ hoạt động tài chính Cash flow from financing activities | B43: II | D43: 0 | E43: 0
...

Sheet BCThuNhap_06203
B1: Mẫu số B01 - ETF. Báo cáo thu nhập Template B01 - ETF. Statement of Comprehensive Income
B2: (Ban hành kèm theo Thông tư số 181/2015/TT-BTC ngày 13 tháng 11 năm 2015 của Bộ Tài chính hướng dẫn thành lập và quản lý quỹ hoán đổi danh mục) (Issued in association with Circular 181/2015/TT-BTC guiding establishment and management of Exchange Traded Fund)
B3: BÁO CÁO THU NHẬP STATEMENT OF COMPREHENSIVE INCOME
B4: Quý III năm 2026 /Quarter III 2026
B6: 1. | C6: Tên công ty quản lý quỹ: Management Fund Company name: | D6: Công ty Cổ phần Quản lý Quỹ Việt Cát Vietnam Fortune Fund Management JSC
B7: 2. | C7: Tên ngân hàng giám sát: Supervising bank: | D7: Ngân Hàng TMCP Đầu tư và Phát triển Việt Nam - Chi nhánh Hà Thành Bank for Investment and Development of Vietnam Jsc - Hathanh Branch
B8: 3. | C8: Tên Quỹ: Fund name: | D8: QUỸ ETF VFCVN DIAMOND VFCVN DIAMOND ETF
B9: 4. | C9: Mã Chứng Khoán Code | D9: FUETPVND FUETPVND
B10: 5. | C10: Ngày lập báo cáo: Reporting Date: | D10: Ngày 15 tháng 10 năm 2026 15/10/2026
I11: Đơn vị tính/Currency: VND
B12: TT / NO | C12: CHỈ TIÊU/ INDICATORS | D12: MÃ SỐ / CODE | F12: NĂM BÁO CÁO/ THIS YEAR | H12: NĂM TRƯỚC/ LAST YEAR
F13: KỲ BÁO CÁO/ THIS PERIOD | G13: LŨY KẾ TỪ ĐẦU NĂM ĐẾN CUỐI KỲ BÁO CÁO/ ACCUMULATED FROM THE BEGINNING OF THIS YEAR | H13: CÙNG KỲ NĂM TRƯỚC/ SAME PERIOD LAST YEAR | I13: LŨY KẾ TỪ ĐẦU NĂM ĐẾN CUỐI KỲ NÀY NĂM TRƯỚC/ ACCUMULATED FROM THE BEGINNING OF LAST YEAR
B14: I. | C14: THU NHẬP, DOANH THU HOẠT ĐỘNG ĐẦU TƯ INVESTMENT INCOME | D14: 01 | F14: -4749924811 | G14: -8860277811 | H14: 8282165520 | I14: 8282165520
A15: PL01 | B15: 1.1 | C15: Cổ tức được chia Dividend income | D15: 02 | F15: 295650000 | G15: 1051810000 | H15: 2176598400 | I15: 2176598400
A16: PL02 | B16: 1.2 | C16: Tiền lãi được nhận Interest income | D16: 03 | F16: 520889 | G16: 999539 | H16: 2535120 | I16: 2535120
A17: PL02.1 | B17: 1.3 | C17: Thu nhập từ Trái tức Income from Bond Coupon
A18: PL03 | B18: 1.4 | C18: Lãi (lỗ) bán các khoản đầu tư Realized gain (losses) from disposal investments | D18: 04 | G18: -63042455
C19: Lãi (lỗ) bán các khoản đầu tư Realized gain (losses) from disposal investments | G19: -63042455
C20: Lãi (lỗ) trong giao dịch hoán đổi chứng chỉ quỹ Realized gain (losses) from exchange trade fund certificate
C21: Lãi (lỗ) giao dịch chứng khoán hạn chế trong giao dịch hoán đổi chứng chỉ quỹ
A22: PL04 | B22: 1.5 | C22: Chênh lệch tăng, giảm đánh giá lại các khoản đầu tư chưa thực hiện Unrealized gain (losses) from investment revaluation | D22: 05 | F22: -5046095700 | G22: -9850044895 | H22: 6103032000 | I22: 6103032000
A23: PL05 | B23: 1.6 | C23: Doanh thu khác Other income | D23: 06
A24: PL06 | B24: 1.7 | C24: Chênh lệch lãi, lỗ tỷ giá hối đoái đã và chưa thực hiện Realized and unrealized gain (losses) from foreign exchange | D24: 07
B25: 1.8 | C25: Doanh thu khác về đầu tư Other investment income | D25: 08
B26: II. | C26: CHI PHÍ ĐẦU TƯ INVESTMENT EXPENSE | D26: 10 | G26: 6225718
A27: PL09 | B27: 2.1 | C27: Chi phí giao dịch mua, bán các khoản đầu tư Expense for purchasing and selling investments | D27: 11 | G27: 6225718
A28: PL09.1 | C28: Phí môi giới Brokerage fee | D28: 11.1 | G28: 6225718
C29: Chi phí thanh toán bù trừ Clearing Settlement Fee | D29: 11.2
A30: PL13 | B30: 2.2 | C30: Chi phí đầu tư khác Other investments expense | D30: 15
B31: III. | C31: CHI PHÍ HOẠT ĐỘNG CỦA QUỸ OPERATING EXPENSE | D31: 20 | F31: 337038436 | G31: 1034894934 | H31: 228208024 | I31: 228208024
A32: PL14 | B32: 3.1 | C32: Phí quản lý Quỹ Management fee | D32: 20.1 | F32: 92630717 | G32: 296145580 | H32: 55020528 | I32: 55020528
B33: 3.2 | C33: Phí dịch vụ lưu ký tài sản Quỹ Custodian fee | D33: 20.2 | F33: 61289822 | G33: 185854480 | H33: 33949320 | I33: 33949320
A34: PL15.1 | C34: Phí dịch vụ lưu ký - bảo quản tài sản Custodian service - Safekeeping fee | D34: 20.2.1 | F34: 60000000 | G34: 180000000 | H34: 33548387 | I34: 33548387
A35: PL15.2 | C35: Phí dịch vụ lưu ký - giao dịch thanh toán bù trừ chứng khoán Custodian service - Transaction fee | D35: 20.2.2 | G35: 2054487
C36: Phí dịch vụ lưu ký - giao dịch hoán đổi Custodian service - Transaction fee for exchange traded transaction | D36: 20.2.3
C37: Phí dịch vụ lưu ký tại VSD Custodian service - VSD fee | D37: 20.2.4 | F37: 1289822 | G37: 3799993 | H37: 400933 | I37: 400933
A38: PL16 | B38: 3.3 | C38: Phí dịch vụ giám sát Supervising fee | D38: 20.3 | F38: 16500000 | G38: 49500000 | H38: 9225806 | I38: 9225806
A39: PL17 | B39: 3.4 | C39: Phí dịch vụ quản trị Quỹ Fund administrative fee | D39: 20.4 | F39: 49500000 | G39: 148500000 | H39: 27677419 | I39: 27677419
A40: PL18 | B40: 3.5 | C40: Phí dịch vụ đại lý chuyển nhượng Transfer agent fee | D40: 20.5 | F40: 33000000 | G40: 99000000 | H40: 9225806 | I40: 9225806
B41: 3.6 | C41: Phí dịch vụ khác của Nhà cung cấp dịch vụ cho Quỹ Other service fees | D41: 20.6 | F41: 23678756 | G41: 75602027 | H41: 63657532 | I41: 63657532
...

Sheet BCTinhHinhTaiChinh_06105
A1: Mẫu số B02 - ETF. Báo cáo tình hình tài chính Template B02 - ETF. Statement of Financial Position
A2: (Ban hành kèm theo Thông tư số 181/2015/TT-BTC ngày 13 tháng 11 năm 2015 của Bộ Tài chính hướng dẫn thành lập và quản lý quỹ hoán đổi danh mục) (Issued in association with Circular 181/2015/TT-BTC guiding establishment and management of Exchange Traded Fund)
A3: BÁO CÁO TÌNH HÌNH TÀI CHÍNH STATEMENT OF FINANCIAL POSITION
A4: Tại ngày 30 tháng 09 năm 2026 - As at 30 September 2026
A6: 1. | B6: Tên công ty quản lý quỹ: Management Fund Company name: | C6: Công ty Cổ phần Quản lý Quỹ Việt Cát Vietnam Fortune Fund Management JSC
A7: 2. | B7: Tên ngân hàng giám sát: Supervising bank: | C7: Ngân Hàng TMCP Đầu tư và Phát triển Việt Nam - Chi nhánh Hà Thành Bank for Investment and Development of Vietnam Jsc - Hathanh Branch
A8: 3. | B8: Tên Quỹ: Fund name: | C8: QUỸ ETF VFCVN DIAMOND VFCVN DIAMOND ETF
A9: 4. | B9: Mã Chứng Khoán Code | C9: FUETPVND FUETPVND
A10: 5. | B10: Ngày lập báo cáo: Reporting Date: | C10: Ngày 15 tháng 10 năm 2026 15/10/2026
F11: Đơn vị tính/Currency: VND
A12: STT/ NO | B12: CHỈ TIÊU/ INDICATORS | C12: Mã số | D12: Thuyết minh | E12: KỲ BÁO CÁO/ THIS PERIOD | F12: KỲ TRƯỚC/ LAST PERIOD
A13: I. | B13: TÀI SẢN ASSETS
A14: 1. | B14: Tiền gửi ngân hàng và các khoản tương đương tiền Cash at bank and cash equivalent | C14: 110 | E14: 869818365 | F14: 1038546632 | G14: 307545922 | H14: 562272443
A15: 1.1 | B15: Tiền gửi ngân hàng cho hoạt động của Quỹ Cash at bank for Fund's operation | C15: 111 | E15: 869818365 | F15: 1038546632 | G15: 307545921 | H15: 562272444
A16: 1.2 | B16: Tiền gửi của nhà đầu tư cho hoạt động mua chứng chỉ quỹ Cash at bank for Fund's subscription | C16: 112 | G16: 1 | H16: -1
A17: 2. | B17: Các khoản đầu tư thuần Investments | C17: 120 | E17: 54489120300 | F17: 59364216000 | G17: 64991412600 | H17: -10502292300
A18: 2.1 | B18: Các khoản đầu tư Investments | C18: 121 | E18: 54489120300 | F18: 59364216000 | G18: 64991412600 | H18: -10502292300
B19: Cổ phiếu Shares | C19: 121.1 | E19: 54489120300 | F19: 59364216000 | G19: 64991412600 | H19: -10502292300
B20: Trái phiếu Bonds | C20: 121.2 | H20: 0
B21: Quyền mua Rights | C21: 121.3 | H21: 0
B22: Tiền gửi có kỳ hạn hơn 3 tháng Deposit greater than 3 months | C22: 121.4 | H22: 0
B23: Chứng chỉ tiền gửi ghi danh Registered Deposit Certificate | C23: 121.5 | H23: 0
B24: Đầu tư khác Other Investments | C24: 121.6 | H24: 0
A25: 2.2 | B25: Dự phòng giảm giá tài sản nhận thế chấp Impairment of devaluation of assets as pledge | C25: 122 | H25: 0
A26: 3. | B26: Các khoản phải thu Receivables | C26: 130 | E26: 8317797 | F26: 16946294 | H26: 8317797
A27: 3.1 | B27: Phải thu về bán các khoản đầu tư Receivables from investments sold but not yet settled | C27: 131 | H27: 0
B28: Trong đó: Phải thu khó đòi về bán các khoản đầu tư In which: Overdue receivables from selling investments | C28: 132 | H28: 0
A29: 3.2 | B29: Phải thu và dự thu cổ tức, tiền lãi các khoản đầu tư Dividend and interest receivables | C29: 133 | H29: 0
A30: 3.2.1 | B30: Phải thu cổ tức, tiền lãi đến ngày nhận Dividend and interest receivables | C30: 134 | H30: 0
B31: Trong đó: Phải thu khó đòi về cổ tức, tiền lãi đến ngày nhận nhưng chưa nhận được In which: Overdue receivables from dividend, interest income | C31: 135 | H31: 0
A32: 3.2.2 | B32: Dự thu cổ tức, tiền lãi chưa đến ngày nhận Accrual dividend, interest income | C32: 136 | H32: 0
B33: Dự thu cổ tức Dividend receivables | C33: 136.1 | H33: 0
B34: Dự thu trái tức Receivables from bond coupon | H34: 0
A35: 3.3 | B35: Các khoản phải thu khác Other receivables | C35: 137 | E35: 8317797 | F35: 16946294 | H35: 8317797
B36: Dự thu lãi tiền gửi - tiền gửi có kỳ hạn không quá 3 tháng Interest receivables from term-deposit less than 3 months | C36: 137.1 | H36: 0
B37: Trả trước phí tổ chức đại hội thường niên Prepaid expense for AGM organization | C37: 137.2 | H37: 0
B38: Các khoản đặt cọc và ứng trước Deposit suspense | C38: 137.3 | E38: 8317797 | F38: 16635609 | H38: 8317797
B39: Phải thu khác Other receivables | C39: 137.4 | F39: 310685 | H39: 0
A40: 3.4 | B40: Dự phòng nợ phải thu khó đòi (*) Provision for doubtful debt | C40: 138 | H40: 0
B41: TỔNG TÀI SẢN TOTAL ASSETS | C41: 200 | E41: 55367256462 | F41: 60419708926 | G41: 65298958522 | H41: -9931702060
...

Sheet PL15
C1: Phụ lục số 15: Báo cáo về thay đổi giá trị tài sản ròng Apppendix 15: Report on change of Net Asset Value
C2: (Ban hành kèm theo Thông tư số 229/2012/TT-BTC ngày 27 tháng 12 năm 2012 của Bộ Tài chính hướng dẫn thành lập và quản lý quỹ hoán đổi danh mục) (Issued in association with Circular 229/2012/TT-BTC on 27 December 2012 guiding establishment and management of the Exchange Traded Fund)
C4: GIÁ TRỊ TÀI SẢN RÒNG CỦA QUỸ NET ASSET VALUE OF FUND
C5: ='NGAY THANG'!C21 -> Tại ngày 30 tháng 09 năm 2026 - As at 30 September 2026
C7: 1. | E7: Tên Công ty quản lý quỹ: Management Fund Company name: | F7: Công Ty TNHH Quản Lý Quỹ SSI SSI Asset Management Company Limited
C8: 2. | E8: Tên Ngân hàng giám sát: Supervising bank: | F8: Ngân Hàng TMCP Đầu tư và Phát triển Việt Nam - Chi nhánh Hà Thành Bank for Investment and Development of Vietnam Jsc - Hathanh Branch
C9: 3. | E9: Tên Quỹ: Fund name: | F9: Quỹ ETF SSIAM VNX50 SSIAM VNX50 ETF
C10: 4 | E10: Ngày lập báo cáo: Reporting Date: | F10: ='NGAY THANG'!C20 -> Ngày 15 tháng 10 năm 2026 15/10/2026
H11: Đơn vị tính/Currency: VND
C12: STT NO | D12: CHỈ TIÊU CRITERIA | G12: KỲ BÁO CÁO THIS PERIOD | H12: KỲ TRƯỚC LAST PERIOD
C13: I | D13: Giá trị tài sản ròng Net Assest Value
C14: 1 | D14: Giá trị tài sản ròng (NAV) đầu kỳ Net Asset Value (NAV) at the beginning of period
C15: 1.1 | E15: của quỹ/ per Fund | G15: =H19 -> 255443666060 | H15: 275746452655
C16: 1.2 | E16: của một lô chứng chỉ quỹ/ per lot of Fund Certificate | G16: =H20 -> 1627029720 | H16: 1756346832
C17: 1.3 | E17: của một chứng chỉ quỹ/ per Fund Certificate | G17: =H21 -> 16270.29 | H17: 17563.46
C18: 2 | D18: Giá trị tài sản ròng (NAV) cuối kỳ Net Asset Value (NAV) at the end of period
C19: 2.1 | E19: của quỹ/ per Fund | G19: =BCTaiSan_06134!D65 -> 55168618887 | H19: 255443666060
C20: 2.2 | E20: của một lô chứng chỉ quỹ/ per lot of Fund Certificate | G20: =ROUNDDOWN(G19/BCTinhHinhTaiChinh_06105!E92*100000,0) -> 985153908 | H20: 1627029720
C21: 2.3 | E21: của một chứng chỉ quỹ/ per Fund Certificate | G21: =ROUNDDOWN(G19/BCTinhHinhTaiChinh_06105!E92,2) -> 9851.53 | H21: 16270.29
C22: 3 | D22: Thay đổi giá trị tài sản ròng Quỹ trong kỳ, trong đó: Change of NAV during perdiod, in Which: | G22: =G19-G15 -> -200275047173 | H22: -20302786595
C23: 3.1 | E23: Thay đổi do các hoạt động liên quan đến đầu tư của Quỹ trong kỳ Changes of NAV due to the fund's investment during the period | G23: =B03_181!D16 -> -5086963247 | H23: -20302786595
C24: 3.2 | E24: Thay đổi GTTSR do mua lại, phát hành thêm Chứng chỉ Quỹ Change of NAV due to subcription, redemption during the period | G24: =G22-G23 -> -195188083926 | H24: 0
C25: 3.3 | E25: Thay đổi NAV do phân chia lợi nhuận cho nhà đầu tư trong kỳ Change of NAV due to profit distribution to investors during the period | G25: 0 | H25: 0
C26: 4 | D26: Thay đổi giá trị tài sản ròng trên một chứng chỉ Quỹ trong kỳ Change of NAV per Fund Certificate during perdiod | G26: =G21-G17 -> -6418.76 | H26: -1293.17
C27: 5 | D27: Giá trị tài sản ròng cao nhất/thấp nhất trong vòng 52 tuần gần nhất Highest/Lowest NAV within latest 52 weeks
C28: 5.1 | E28: Giá trị cao nhất (VND)/ Highest Value (VND) | G28: 347973766203 | H28: 347973766203
C29: 5.2 | E29: Giá trị thấp nhất (VND)/ Lowest Value (VND) | G29: 137053702659 | H29: 254350640555
C30: 6 | D30: Tỷ lệ sở hữu nước ngoài
C31: 6.1 | E31: Số lượng Chứng chỉ quỹ
C32: 6.2 | E32: Tổng giá trị
C33: 6.3 | E33: Tỷ lệ sở hữu
C34: II | D34: Giá trị thị trường (giá đóng cửa cuối phiên giao dịch trong ngày báo cáo) của một chứng chỉ Quỹ Market value of a Fund Certificate (closing price of the last trading session of the reporting date)
C35: 1 | D35: Giá trị đầu kỳ Beginning perriod Value | G35: =H36 -> 19000 | H35: 17500
C36: 2 | D36: Giá trị cuối kỳ Ending period Value | G36: 14050 | H36: 19000
C37: 3 | D37: Thay đổi giá trị thị trường trong kỳ so với kỳ trước Change of market value in the period in comparision to the last period | G37: =G36-G35 -> -4950 | H37: 1500
C38: 4 | D38: Chênh lệch giữa giá thị trường của chứng chỉ Quỹ và giá trị tài sản ròng trên một chứng chỉ Quỹ Difference between Market Value per Fund Certificate and NAV per Fund Certificate
E39: Chênh lệch tuyệt đối (VND)/ Absolute difference (VND) | G39: =G36-G21 -> 4198.47 | H39: 2729.71
E40: Chênh lệch tương đối (mức độ chiết khấu (-)/thặng dư (+))/ Relative differnce (discount(-)/ premium(+)) | G40: =G39/G21 -> 0.42617441 | H40: 0.16777267
C41: 5 | D41: Giá trị thị tường cao nhất/thấp nhất trong vòng 52 tuần gần nhất Highest/lowest Market Value within latest 52 weeks
E42: Giá trị cao nhất (VND)/ Highest Value (VND) | G42: 23690 | H42: 23690
...

Sheet B03_181
A1: Mẫu số B03 - ETF: Mẫu báo cáo thay đổi giá trị tài sản ròng, giao dịch chứng chỉ quỹ Template B03 - ETF: Report on change of Net Asset Value, trading of Fund Certificate
A2: (Ban hành kèm theo Thông tư số 181/2015/TT-BTC ngày 13 tháng 11 năm 2015 của Bộ Tài chính hướng dẫn thành lập và quản lý quỹ hoán đổi danh mục) (Issued in association with Circular 181/2015/TT-BTC guiding establishment and management of Exchange Traded Fund)
A3: BÁO CÁO THAY ĐỔI GIÁ TRỊ TÀI SẢN RÒNG, GIAO DỊCH CHỨNG CHỈ QŨY STATEMENT OF CHANGE IN NET ASSET VALUE AND REDEMPTION, SUBSCRIPTION OF FUND CERTIFICATE
A4: Tại ngày 30 tháng 09 năm 2026 - As at 30 September 2026
B6: 1. | C6: Tên công ty quản lý quỹ: Management Fund Company name: | D6: Công ty Cổ phần Quản lý Quỹ Việt Cát Vietnam Fortune Fund Management JSC
B7: 2. | C7: Tên ngân hàng giám sát: Supervising bank: | D7: Ngân Hàng TMCP Đầu tư và Phát triển Việt Nam - Chi nhánh Hà Thành Bank for Investment and Development of Vietnam Jsc - Hathanh Branch
B8: 3. | C8: Tên Quỹ: Fund name: | D8: QUỸ ETF VFCVN DIAMOND VFCVN DIAMOND ETF
B9: 4. | C9: Mã Chứng Khoán Code | D9: FUETPVND FUETPVND
B10: 5. | C10: Ngày lập báo cáo: Reporting Date: | D10: Ngày 15 tháng 10 năm 2026 15/10/2026
E11: Đơn vị tính/Currency: VND
A13: STT No | C13: Nội dung Item | D13: Qúy III năm 2026 Quarter III 2026 | E13: Qúy II năm 2026 Quarter II 2026
A15: I | C15: Giá trị tài sản ròng của Quỹ ETF (NAV) đầu kỳ Net Asset Value (NAV) at the beginning of period | D15: 60255582134 | E15: 61578006755
A16: II | C16: Thay đổi NAV so với kỳ trước (= II.1 + II.2), trong đó: Change of NAV during the period (= II.1 + II.2), of which: | D16: -5086963247 | E16: -1322424621
B17: II.1 | C17: Thay đổi NAV do biến động thị trường và hoạt động giao dịch của Quỹ ETF trong kỳ Changes of NAV due to market fluctuation and the fund's investment during the period | D17: -5086963247 | E17: -1322424621
B18: II.2 | C18: Thay đổi NAV do phân chia Lợi nhuận/Tài sản của Quỹ ETF cho Nhà đầu tư trong kỳ Change of NAV due to profit distribution to investors during the period
A19: III | C19: Thay đổi NAV do hoán đổi lại, phát hành thêm Chứng chỉ Quỹ ETF (= III.1 - III.2) Change of NAV due to redemption, subscription of Fund Certificate
B20: III.1 | C20: Khoản thu từ việc phát hành bổ sung Chứng chỉ Quỹ ETF Increase from Subscription of Fund Certificate
B21: III.2 | C21: Khoản thanh toán từ việc hoán đổi lại Chứng chỉ Quỹ ETF Decrease from Redemption of Fund Certificate
A22: IV | C22: Giá trị tài sản ròng của Quỹ ETF cuối kỳ ( = I + II + III) NAV at the end of period (= I + II + III) | D22: 55168618887 | E22: 60255582134
A25: Người lập biểu (Ký, họ tên) | C25: Người duyệt (Ký, họ tên) | D25: Kế toán trưởng (Ký, họ tên) | E25: Tổng giám đốc (Ký, họ tên, đóng dấu)

Sheet B04_181
A1: Mẫu số B04 - ETF: Báo cáo danh mục đầu tư Template B04 - ETF: Investment portfolio report
A2: (Ban hành kèm theo Thông tư số 181/2015/TT-BTC ngày 13 tháng 11 năm 2015 của Bộ Tài chính hướng dẫn thành lập và quản lý quỹ hoán đổi danh mục) (Issued in association with Circular 181/2015/TT-BTC guiding establishment and management of Exchange Traded Fund)
A4: BÁO CÁO DANH MỤC ĐẦU TƯ INVESTMENT PORTFOLIO REPORT
A5: Tại ngày 30 tháng 09 năm 2026 - As at 30 September 2026
A7: 1. | B7: Tên công ty quản lý quỹ: Management Fund Company name: | C7: Công ty Cổ phần Quản lý Quỹ Việt Cát Vietnam Fortune Fund Management JSC
A8: 2. | B8: Tên ngân hàng giám sát: Supervising bank: | C8: Ngân Hàng TMCP Đầu tư và Phát triển Việt Nam - Chi nhánh Hà Thành Bank for Investment and Development of Vietnam Jsc - Hathanh Branch
A9: 3. | B9: Tên Quỹ: Fund name: | C9: QUỸ ETF VFCVN DIAMOND VFCVN DIAMOND ETF
A10: 4. | B10: Mã Chứng Khoán Code | C10: FUETPVND FUETPVND
A11: 5. | B11: Ngày lập báo cáo: Reporting Date: | C11: Ngày 15 tháng 10 năm 2026 15/10/2026
G12: Đơn vị tính/Currency: VND
A14: STT | B14: Loại tài sản Asset types | C14: Mã chỉ tiêu Code | D14: Số lượng Quantity | E14: Giá thị trường hoặc giá trị hợp lý tại ngày báo cáo Market price or fair value at reporting date | F14: Tổng giá trị Total value | G14: Tỷ lệ %/Tổng giá trị tài sản của quỹ %/Total asset value of the Fund
A15: I | B15: BẤT ĐỘNG SẢN ĐẦU TƯ (KHÔNG ÁP DỤNG) REAL ESTATE INVESTMENT (NOT APPLICABLE)
A16: II | B16: CỔ PHIẾU NIÊM YẾT, ĐĂNG KÝ GIAO DỊCH, CHỨNG CHỈ QUỸ NIÊM YẾT LISTED SHARES, TRADING REGISTRATION SHARED, LISTED FUND CERTIFICATES | C16: 2246
A17: 1 | B17: ACB | C17: 2246.1 | D17: 209050 | E17: 21100 | F17: 4410955000 | G17: 0.079667213
A18: 2 | B18: BMP | C18: 2246.2 | D18: 6000 | E18: 143100 | F18: 858600000 | G18: 0.01550736
A19: 3 | B19: CTD | C19: 2246.3 | D19: 13030 | E19: 58600 | F19: 763558000 | G19: 0.013790786
A20: 4 | B20: CTG | C20: 2246.4 | D20: 37000 | E20: 30000 | F20: 1110000000 | G20: 0.02004795
A21: 5 | B21: FPT | C21: 2246.5 | D21: 134200 | E21: 63000 | F21: 8454600000 | G21: 0.15270036
A22: 6 | B22: GMD | C22: 2246.6 | D22: 64000 | E22: 78100 | F22: 4998400000 | G22: 0.090277184
A23: 7 | B23: HDB | C23: 2246.7 | D23: 127000 | E23: 27500 | F23: 3492500000 | G23: 0.063078798
A24: 8 | B24: KDH | C24: 2246.8 | D24: 19000 | E24: 15350 | F24: 291650000 | G24: 0.0052675538
A25: 9 | B25: MBB | C25: 2246.9 | D25: 213750 | E25: 19650 | F25: 4200187500 | G25: 0.075860495
A26: 10 | B26: MSB | C26: 2246.10 | D26: 111600 | E26: 14200 | F26: 1584720000 | G26: 0.028621971
A27: 11 | B27: MWG | C27: 2246.11 | D27: 108000 | E27: 72400 | F27: 7819200000 | G27: 0.14122426
A28: 12 | B28: NLG | C28: 2246.12 | D28: 62000 | E28: 21750 | F28: 1348500000 | G28: 0.02435555
A29: 13 | B29: OCB | C29: 2246.13 | D29: 28750 | E29: 10100 | F29: 290375000 | G29: 0.0052445257
A30: 14 | B30: PNJ | C30: 2246.14 | D30: 96000 | E30: 26600 | F30: 2553600000 | G30: 0.046121122
A31: 15 | B31: REE | C31: 2246.15 | D31: 44850 | E31: 47900 | F31: 2148315000 | G31: 0.038801182
A32: 16 | B32: TCB | C32: 2246.16 | D32: 165000 | E32: 32550 | F32: 5370750000 | G32: 0.097002278
A33: 17 | B33: TPB | C33: 2246.17 | D33: 48000 | E33: 14450 | F33: 693600000 | G33: 0.01252726
A34: 18 | B34: VPB | C34: 2246.18 | D34: 175197 | E34: 23400 | F34: 4099609800 | G34: 0.07404394
B35: Tổng Total | C35: 2247 | D35: 1662427 | F35: 54489120300 | G35: 0.98413979
A36: III | B36: CỔ PHIẾU CHƯA NIÊM YẾT, ĐĂNG KÝ GIAO DỊCH, CHỨNG CHỈ QUỸ KHÔNG NIÊM YẾT UNLISTED SHARES, TRADING REGISTRATION, UNLISTED FUND CERTIFICATES | C36: 2248 | G36: 0
B37: Tổng Total | C37: 2249 | G37: 0
B38: Tổng các loại cổ phiếu Total shares | C38: 2250 | D38: 1662427 | F38: 54489120300 | G38: 0.98413979
A39: IV | B39: Trái phiếu Bonds | C39: 2251 | G39: 0
B40: Tổng Total | C40: 2252 | G40: 0
A41: V | B41: Các loại chứng khoán khác Other sercurities | C41: 2253 | G41: 0
A42: 1 | B42: Quyền mua chứng khoán | C42: 2253.1 | G42: 0
A43: 2 | B43: Chi tiết loại hợp đồng phái sinh(*) Index future contracts | C43: 2253.2 | G43: 0
...

Sheet BCTaiSan_06134
A1: Phụ lục XXVI. Mẫu báo cáo về hoạt động của Quỹ Appendix XXVI. Report on Fund's Operation
A2: (Ban hành kèm theo Thông tư số 98/2020/TT-BTC ngày 16 tháng 11 năm 2020 của Bộ trưởng Bộ Tài về hướng dẫn hoạt động và quản lý quỹ đầu tư chứng khoán (Issued in association with Circular 98/2020/TT-BTC dated 16 November 2020 of the Minister of Finance on guiding the operation and management of the securities investment funds
A3: BÁO CÁO CHUNG VỀ HOẠT ĐỘNG ĐẦU TƯ CỦA QUỸ ETF REPORT ON ETF FUND'S INVESTMENT ACTIVITIES
A4: Tại ngày 30 tháng 09 năm 2026 - As at 30 September 2026
A6: 1. | B6: Tên công ty quản lý quỹ: Management Fund Company name: | C6: Công ty Cổ phần Quản lý Quỹ Việt Cát Vietnam Fortune Fund Management JSC
A7: 2. | B7: Tên ngân hàng giám sát: Supervising bank: | C7: Ngân Hàng TMCP Đầu tư và Phát triển Việt Nam - Chi nhánh Hà Thành Bank for Investment and Development of Vietnam Jsc - Hathanh Branch
A8: 3. | B8: Tên Quỹ: Fund name: | C8: QUỸ ETF VFCVN DIAMOND VFCVN DIAMOND ETF
A9: 4. | B9: Mã Chứng Khoán Code | C9: FUETPVND FUETPVND
A10: 5. | B10: Ngày lập báo cáo: Reporting Date: | C10: Ngày 15 tháng 10 năm 2026 15/10/2026
A11: I. BÁO CÁO VỀ TÀI SẢN/ ASSET REPORT | F11: Đơn vị tính/Currency: VND
A12: TT NO | B12: Chỉ tiêu Indicators | C12: Mã chỉ tiêu Code | D12: Kỳ báo cáo This period | E12: Kỳ trước Previous period | F12: %/cùng kỳ năm trước %/same period of last year
A13: I | B13: Tài sản Assets | C13: 2200
A14: I.1 | B14: Tiền gửi ngân hàng và các khoản tương đương tiền Cash at bank and cash equivalent | C14: 2201 | D14: 869818365 | E14: 1038546632 | F14: 0.39151167
B15: Tiền, tương đương tiền | C15: 2202
B16: Tiền gửi ngân hàng Cash at bank | C16: 2203 | D16: 869818365 | E16: 1038546632 | F16: 0.39151297
B17: Tiền gửi của nhà đầu tư cho hoạt động mua chứng chỉ quỹ Cash at bank for Fund's subscription | C17: 2204
B18: Các khoản tương đương tiền Cash equivalent | C18: 2204
A19: I.2 | B19: Các khoản đầu tư (kê chi tiết) Investments | C19: 2205 | D19: 54489120300 | E19: 59364216000 | F19: 0.96049977
B20: Cổ phiếu niêm yết Listed shares | C20: 2205.1 | D20: 54489120300 | E20: 59364216000 | F20: 0.96049977
B21: Quyền mua Rights | C21: 2205.2
A22: I.3 | B22: Thu từ cho thuê bất động sản đầu tư (không áp dụng) Receivables from rental of investment property (not applicable) | C22: 2206
A23: I.4 | B23: Cổ tức, trái tức được nhận Dividend and coupon receivables | C23: 2207
B24: Phải thu cổ tức, tiền lãi đến ngày nhận Dividend and interest receivables | C24: 2207.1
B25: Dự thu cổ tức, tiền lãi chưa đến ngày nhận Accrual dividend, interest income | C25: 2207.2
A26: I.5 | B26: Lãi được nhận Interest receivables | C26: 2208
A27: I.6 | B27: Tiền bán bất động sản chờ thu (không áp dụng) Real Estate Proceeds Receivables (not applicale) | C27: 2209
A28: I.7 | B28: Tiền bán chứng khoán chờ thu (kê chi tiết) Receivables from investments sold but not yet settled (in details) | C28: 2210
A29: I.8 | B29: Các khoản phải thu khác Other receivables | C29: 2211 | E29: 310685
A30: I.9 | B30: Các tài sản khác Other assets | C30: 2212 | D30: 8317797 | E30: 16635609 | F30: 1.0082178
B31: Trả trước phí quản lý niêm yết hàng năm tại SGDCK HCM Prepaid expense for listing fee at HSX | C31: 2212.1 | D31: 8317797 | E31: 16635609 | F31: 1.0082178
A32: I.10 | B32: Tổng tài sản Total Assets | C32: 2213 | D32: 55367256462 | E32: 60419708926 | F32: 0.93494171
A33: II | B33: Nợ Liabilities | C33: 2214
A34: II.1 | B34: Tiền phải thanh toán mua bất động sản (không áp dụng) Real Estate Trading Payables (not applicable) | C34: 2215
A35: II.2 | B35: Tiền phải thanh toán mua chứng khoán (kê chi tiết) Paybles for securities bought but not yet settled (in details) | C35: 2216
B36: Phải trả mua cổ phiếu Outstanding Settlement of buying securities | C36: 2216.1
A37: II.3 | B37: Các khoản phải trả khác Other payables | C37: 2217 | D37: 198637575 | E37: 164126792 | F37: 1.1962405
B38: Phải trả nhà đầu tư Payables to investors | C38: 2217.1
B39: Phải trả nhà đầu tư trên tài sản giữ hộ Payables to investors for investment bought on behalf | C39: 2217.1.1
B40: Phải trả nhà đầu tư trên cổ tức đã thu Payables to investors for collected dividend | C40: 2217.1.2
B41: Phải trả cho Nhà đầu tư về mua lại Chứng chỉ quỹ Redemption payable to investors | C41: 2217.1.3
...

Sheet BCKetQuaHoatDong_06135
A1: Phụ lục XXVI. Mẫu báo cáo về hoạt động của Quỹ Appendix XXVI. Report on Fund's Operation
A2: (Ban hành kèm theo Thông tư số 98/2020/TT-BTC ngày 16 tháng 11 năm 2020 của Bộ trưởng Bộ Tài về hướng dẫn hoạt động và quản lý quỹ đầu tư chứng khoán (Issued in association with Circular 98/2020/TT-BTC dated 16 November 2020 of the Minister of Finance on guiding the operation and management of the securities investment funds
A3: BÁO CÁO CHUNG VỀ HOẠT ĐỘNG ĐẦU TƯ CỦA QUỸ ETF REPORT ON ETF FUND'S INVESTMENT ACTIVITIES
A4: Quý III năm 2026 /Quarter III 2026
A6: 1. | B6: Tên công ty quản lý quỹ: Management Fund Company name: | C6: Công ty Cổ phần Quản lý Quỹ Việt Cát Vietnam Fortune Fund Management JSC
A7: 2. | B7: Tên ngân hàng giám sát: Supervising bank: | C7: Ngân Hàng TMCP Đầu tư và Phát triển Việt Nam - Chi nhánh Hà Thành Bank for Investment and Development of Vietnam Jsc - Hathanh Branch
A8: 3. | B8: Tên Quỹ: Fund name: | C8: QUỸ ETF VFCVN DIAMOND VFCVN DIAMOND ETF
A9: 4. | B9: Mã Chứng Khoán Code | C9: FUETPVND FUETPVND
A10: 5. | B10: Ngày lập báo cáo: Reporting Date: | C10: Ngày 15 tháng 10 năm 2026 15/10/2026
A12: II. BÁO CÁO KẾT QUẢ HOẠT ĐỘNG/ PROFIT AND LOSS REPORT | F12: Đơn vị tính/Currency: VND
A13: TT NO | B13: Chỉ tiêu Indicators | C13: Mã chỉ tiêu Code | D13: Kỳ báo cáo This period | E13: Kỳ trước Previous period | F13: Lũy kế từ đầu năm Accumulated figure from the beginning of the year
A14: I | B14: Thu nhập từ hoạt động đầu tư Investment income | C14: 2220 | D14: 296170889 | E14: 658868924 | F14: 1052809539
A15: 1 | B15: Thu từ bất động sản cho thuê (không áp dụng) Income from rental property (not applicable) | C15: 2246
A16: 2 | B16: Cổ tức, trái tức được nhận Dividend, Bond coupon income | C16: 2221 | D16: 295650000 | E16: 658460000 | F16: 1051810000
A17: 3 | B17: Lãi được nhận Interest income | C17: 2222 | D17: 520889 | E17: 408924 | F17: 999539
A18: 4 | B18: Các khoản thu nhập khác Other income | C18: 2223
A19: II | B19: Chi phí Expense | C19: 2224 | D19: 337038436 | E19: 350367545 | F19: 1041120652
A20: 1 | B20: Chi phí quản lý trả cho công ty quản lý quỹ Management fee for FMC | C20: 2225 | D20: 92630717 | E20: 98815892 | F20: 296145580
A21: 2 | B21: Chi phí lưu ký, giám sát trả cho NHGS Custodian, Supervisory fee for Supervisory Bank | C21: 2226 | D21: 77789822 | E21: 79823816 | F21: 235354480
B22: Phí dịch vụ lưu ký tài sản Custodian service fee | C22: 2226.1 | D22: 60000000 | E22: 60000000 | F22: 180000000
B23: Phí giao dịch chứng khoán Transaction fee | C23: 2226.2 | E23: 2054487 | F23: 2054487
B24: Phí giao dịch hoán đổi Transaction fee for exchange traded transaction | C24: 2226.2.1
B25: Phí giám sát Supervisory fee | C25: 2226.3 | D25: 16500000 | E25: 16500000 | F25: 49500000
B26: Phí dịch vụ lưu ký tại VSD Custodian service - VSD fee | C26: 2226.4 | D26: 1289822 | E26: 1269329 | F26: 3799993
A27: 3 | B27: Chi phí quản trị quỹ và các chi phí khác mà công ty quản lý quỹ trả cho tổ chức cung cấp dịch vụ có liên quan Fund Administration Fee, and other fees paid to relevant Fund's service providers | C27: 2227 | D27: 102878756 | E27: 104239498 | F27: 312652027
B28: Chi phí dịch vụ quản trị Quỹ Fund Administration Fee | C28: 2227.1 | D28: 49500000 | E28: 49500000 | F28: 148500000
B29: Chi phí dịch vụ Đại lý Chuyển nhượng Transfer Agency Fee | C29: 2227.2 | D29: 33000000 | E29: 33000000 | F29: 99000000
B30: Phí cung cấp dịch vụ tính giá trị tài sản ròng tham chiếu (iNAV) trả cho HOSE Expenses payable to HOSE for iNAV calculation | C30: 2227.3 | D30: 7837981 | E30: 8361347 | F30: 25058471
B31: Phí cấp quyền sử dụng chỉ số trả cho HOSE Expenses payable to HOSE for Index usage | C31: 2227.4 | D31: 12540775 | E31: 13378151 | F31: 40093556
B32: Phí dịch vụ khác của Nhà cung cấp dịch vụ cho Quỹ Other service fees | C32: 2227.5
A33: 4 | B33: Chi phí dịch vụ quản lý bất động sản (không áp dụng) Real Estate Management Service fee (not applicable) | C33: 2248
A34: 5 | B34: Chi phí dịch vụ định giá bất động sản (không áp dụng) Real estate valuation service fees (not applicable) | C34: 2249
A35: 6 | B35: Chi phí kiểm toán trả cho tổ chức kiểm toán; Audit fee | C35: 2228 | D35: 19055329 | E35: 16185220 | F35: 56544644
A36: 7 | B36: Chi phí dịch vụ tư vấn pháp lý, dịch vụ báo giá và các dịch vụ hợp lý khác, thù lao trả cho ban đại diện quỹ; Legal consultancy expenses, price quotation fee, other valid expenses, remuneration payable to fund representative board | C36: 2229 | D36: 33000000 | E36: 33000000 | F36: 99000000
B37: Thù lao trả cho ban đại diện quỹ Remuneration for Fund's Board of Representatives | C37: 2229.1 | D37: 33000000 | E37: 33000000 | F37: 99000000
A38: 8 | B38: Chi phí dự thảo, in ấn, gửi bản cáo bạch, bản cáo bạch tóm tắt, báo cáo tài chính, xác nhận giao dịch, sao kê tài khoản và các tài liệu khác cho nhà đầu tư; chi phí công bố thông tin của quỹ; chi phí tổ chức họp đại hội nhà đầu tư, ban đại diện quỹ; Fee for drafting, printing, distribution of prospectus, summarised propectus, financial statements, transaction confirmations, account statements and other documents to investors; information disclosure fee; fee for organising annual general meeting, board of representatives meeting | C38: 2230
B39: Phí thiết kế, in ấn, gửi thư… Designing, prining, posting... Expense | C39: 2230.1
B40: Phí báo cáo thường niên Annual report expense | C40: 2230.2
B41: Chi phí họp Đại hội Quỹ Meeting expense | C41: 2230.3
B42: Chi phí họp và chi phí công tác của ban đại diện Fund's Board of Representatives meeting expense & travelling expense | C42: 2230.4
...

Sheet BCDanhMucDauTu_06136
A1: Phụ lục XXVI. Mẫu báo cáo về hoạt động của Quỹ Appendix XXVI. Report on Fund's Operation
A2: (Ban hành kèm theo Thông tư số 98/2020/TT-BTC ngày 16 tháng 11 năm 2020 của Bộ trưởng Bộ Tài về hướng dẫn hoạt động và quản lý quỹ đầu tư chứng khoán (Issued in association with Circular 98/2020/TT-BTC dated 16 November 2020 of the Minister of Finance on guiding the operation and management of the securities investment funds
A3: BÁO CÁO CHUNG VỀ HOẠT ĐỘNG ĐẦU TƯ CỦA QUỸ ETF REPORT ON ETF FUND'S INVESTMENT ACTIVITIES
A4: Tại ngày 30 tháng 09 năm 2026 - As at 30 September 2026
A6: 1. | B6: Tên công ty quản lý quỹ: Management Fund Company name: | C6: Công ty Cổ phần Quản lý Quỹ Việt Cát Vietnam Fortune Fund Management JSC
A7: 2. | B7: Tên ngân hàng giám sát: Supervising bank: | C7: Ngân Hàng TMCP Đầu tư và Phát triển Việt Nam - Chi nhánh Hà Thành Bank for Investment and Development of Vietnam Jsc - Hathanh Branch
A8: 3. | B8: Tên Quỹ: Fund name: | C8: QUỸ ETF VFCVN DIAMOND VFCVN DIAMOND ETF
A9: 4. | B9: Mã Chứng Khoán Code | C9: FUETPVND FUETPVND
A10: 5. | B10: Ngày lập báo cáo: Reporting Date: | C10: Ngày 15 tháng 10 năm 2026 15/10/2026
A12: III. BÁO CÁO DANH MỤC ĐẦU TƯ/ INVESTMENT PORFOLIO REPORT | G12: Đơn vị tính/Currency: VND
A13: STT | B13: Loại tài sản Asset types | C13: Mã chỉ tiêu Code | D13: Số lượng Quantity | E13: Giá thị trường hoặc giá trị hợp lý tại ngày báo cáo Market price or fair value at reporting date | F13: Tổng giá trị Total value | G13: Tỷ lệ %/Tổng giá trị tài sản của quỹ %/Total asset value of the Fund
A14: I | B14: BẤT ĐỘNG SẢN ĐẦU TƯ (KHÔNG ÁP DỤNG) REAL ESTATE INVESTMENT (NOT APPLICABLE)
A15: II | B15: CỔ PHIẾU NIÊM YẾT, ĐĂNG KÝ GIAO DỊCH, CHỨNG CHỈ QUỸ NIÊM YẾT LISTED SHARES, TRADING REGISTRATION SHARED, LISTED FUND CERTIFICATES | C15: 2246
A16: 1 | B16: ACB | C16: 2246.1 | D16: 209050 | E16: 21100 | F16: 4410955000 | G16: 0.079667213
A17: 2 | B17: BMP | C17: 2246.2 | D17: 6000 | E17: 143100 | F17: 858600000 | G17: 0.01550736
A18: 3 | B18: CTD | C18: 2246.3 | D18: 13030 | E18: 58600 | F18: 763558000 | G18: 0.013790786
A19: 4 | B19: CTG | C19: 2246.4 | D19: 37000 | E19: 30000 | F19: 1110000000 | G19: 0.02004795
A20: 5 | B20: FPT | C20: 2246.5 | D20: 134200 | E20: 63000 | F20: 8454600000 | G20: 0.15270036
A21: 6 | B21: GMD | C21: 2246.6 | D21: 64000 | E21: 78100 | F21: 4998400000 | G21: 0.090277184
A22: 7 | B22: HDB | C22: 2246.7 | D22: 127000 | E22: 27500 | F22: 3492500000 | G22: 0.063078798
A23: 8 | B23: KDH | C23: 2246.8 | D23: 19000 | E23: 15350 | F23: 291650000 | G23: 0.0052675538
A24: 9 | B24: MBB | C24: 2246.9 | D24: 213750 | E24: 19650 | F24: 4200187500 | G24: 0.075860495
A25: 10 | B25: MSB | C25: 2246.1 | D25: 111600 | E25: 14200 | F25: 1584720000 | G25: 0.028621971
A26: 11 | B26: MWG | C26: 2246.11 | D26: 108000 | E26: 72400 | F26: 7819200000 | G26: 0.14122426
A27: 12 | B27: NLG | C27: 2246.12 | D27: 62000 | E27: 21750 | F27: 1348500000 | G27: 0.02435555
... A33: 18 | B33: VPB | C33: 2246.18 | D33: 175197 | E33: 23400 | F33: 4099609800 | G33: 0.07404394
B34: Tổng Total | C34: 2247 | D34: 1662427 | F34: 54489120300 | G34: 0.98413979
A35: III | B35: CỔ PHIẾU CHƯA NIÊM YẾT, ĐĂNG KÝ GIAO DỊCH, CHỨNG CHỈ QUỸ KHÔNG NIÊM YẾT UNLISTED SHARES, TRADING REGISTRATION, UNLISTED FUND CERTIFICATES | C35: 2248
B36: Tổng Total | C36: 2249 | G36: 0
B37: Tổng các loại cổ phiếu Total shares | C37: 2250 | D37: 1662427 | F37: 54489120300 | G37: 0.98413979
A38: IV | B38: Trái phiếu Bonds | C38: 2251
B39: Tổng Total | C39: 2252
A40: V | B40: Các loại chứng khoán khác Other sercurities | C40: 2253
A41: 1 | B41: Quyền mua chứng khoán | C41: 2253.1 | D41: 0 | E41: 0 | F41: 0
A42: 2 | B42: Chi tiết loại hợp đồng phái sinh(*) Index future contracts | C42: 2253.2
B43: Tổng Total | C43: 2254 | D43: 0 | F43: 0
B44: Tổng các loại chứng khoán Total investment | C44: 2255 | D44: 1662427 | F44: 54489120300 | G44: 0.98413979
A45: VI | B45: Các tài sản khác Other assets | C45: 2256
A46: 1 | B46: Cổ tức được nhận Dividend receivables | C46: 2256.1
A47: 2 | B47: Trả trước phí quản lý niêm yết của Sở giao dịch chứng khoán Prepaid expense for listing management of Stock Exchange | C47: 2256.2
...

Sheet Khac_06137
A1: Phụ lục XXVI. Mẫu báo cáo về hoạt động của Quỹ Appendix XXVI. Report on Fund's Operation
A2: (Ban hành kèm theo Thông tư số 98/2020/TT-BTC ngày 16 tháng 11 năm 2020 của Bộ trưởng Bộ Tài về hướng dẫn hoạt động và quản lý quỹ đầu tư chứng khoán (Issued in association with Circular 98/2020/TT-BTC dated 16 November 2020 of the Minister of Finance on guiding the operation and management of the securities investment funds
A3: BÁO CÁO CHUNG VỀ HOẠT ĐỘNG ĐẦU TƯ CỦA QUỸ ETF REPORT ON ETF FUND'S INVESTMENT ACTIVITIES
A4: Tại ngày 30 tháng 09 năm 2026 - As at 30 September 2026
A6: 1. | B6: Tên công ty quản lý quỹ: Management Fund Company name: | C6: Công ty Cổ phần Quản lý Quỹ Việt Cát Vietnam Fortune Fund Management JSC
A7: 2. | B7: Tên ngân hàng giám sát: Supervising bank: | C7: Ngân Hàng TMCP Đầu tư và Phát triển Việt Nam - Chi nhánh Hà Thành Bank for Investment and Development of Vietnam Jsc - Hathanh Branch
A8: 3. | B8: Tên Quỹ: Fund name: | C8: QUỸ ETF VFCVN DIAMOND VFCVN DIAMOND ETF
A9: 4. | B9: Mã Chứng Khoán Code | C9: FUETPVND FUETPVND
A10: 5. | B10: Ngày lập báo cáo: Reporting Date: | C10: Ngày 15 tháng 10 năm 2026 15/10/2026
A11: V. MỘT SỐ CHỈ TIÊU KHÁC/ OTHER INDICATORS | E11: Đơn vị tính/Currency: VND
A12: TT NO | B12: Chỉ tiêu Indicators | C12: Mã chỉ tiêu Code | D12: Kỳ báo cáo This period | E12: Kỳ trước Previous period
A13: I | B13: Các chỉ tiêu về hiệu quả hoạt động Investment performance indicators | C13: 2251
A14: 1 | B14: Tỷ lệ giá dịch vụ quản lý quỹ trả cho công ty quản lý quỹ/Giá trị tài sản ròng trung bình trong kỳ (%) Management fee paid to the fund management company/Average NAV (%) | C14: 2252 | D14: 0.006500559 | E14: 0.0065005619
A15: 2 | B15: Tỷ lệ giá dịch vụ lưu ký, giám sát trả cho Ngân hàng Giám sát/Giá trị tài sản ròng trung bình trong kỳ (%) Custody and supervising fees paid to the Supervisory Bank/Average NAV (%) | C15: 2253 | D15: 0.0054590674 | E15: 0.0052511762
A16: 3 | B16: Tỷ lệ chi phí dịch vụ quản trị quỹ, và các chi phí khác mà công ty quản lý quỹ trả cho tổ chức cung cấp dịch vụ có liên quan/Giá trị tài sản ròng của quỹ trung bình trong kỳ (%) Fund admin fee, and other fees paid to relating services providers by the fund management company/Average NAV (%) | C16: 2254 | D16: 0.0072197371 | E16: 0.0068573516
A17: 4 | B17: Chi phí kiểm toán trả cho tổ chức kiểm toán (nếu phát sinh)/Giá trị tài sản ròng trung bình trong kỳ (%) Auditing fee paid to auditing organizations (if any)/Average NAV (%) | C17: 2255 | D17: 0.0013372485 | E17: 0.0010647379
A18: 5 | B18: Chi phí trả cho tổ chức quản lý bất động sản/ Giá trị tài sản ròng trung bình trong kỳ (%) (không áp dụng) Fee paid to Real Estate management organisation/ Average NAV (%) (not applicable) | C18: 2256 | D18: 0 | E18: 0
A19: 6 | B19: Chi phí trả cho doanh nghiệp thẩm định giá bất động sản/Giá trị tài sản ròng trung bình trong kỳ (%) (không áp dụng) Fee paid to Real Estate valuation service provider/ Average NAV (%) (not applicable) | C19: 2257 | D19: 0 | E19: 0
A20: 7 | B20: Chi phí dịch vụ tư vấn pháp lý, dịch vụ báo giá và các dịch vụ hợp lý khác, thù lao trả cho ban đại diện quỹ/Giá trị tài sản ròng trung bình trong kỳ (%) Legal consultancy, price quotation and other appropriate service fees; remunerations paid to the Board of Representatives/Average NAV (%) | C20: 2268 | D20: 0.0031357822 | E20: 0.0033749541
A21: 8 | B21: Tỷ lệ chi phí hoạt động/Giá trị tài sản ròng trung bình trong kỳ (%) Operating expense over average NAV ratio (%) | C21: 2269 | D21: 0.023652394 | E21: 0.023048782
A22: 9 | B22: Tốc độ vòng quay danh mục trong kỳ (%) = (Tổng giá trị mua vào + tổng giá trị bán ra) x 100%/ (2 x Giá trị tài sản ròng trung bình trong kỳ) Portfolio turnover rate (%) = (Total value of purchase transactions + total value of sales transactions) x 100%/ (2 x Average NAV) (**) | C22: 2270 | D22: 0.0060001457 | E22: 0.20477814
A23: 10 | B23: Tỷ lệ thu nhập (tính cả thu nhập từ lãi, cổ tức, trái tức, chênh lệch giá)/ Giá trị tài sản ròng (không áp dụng) Income (including interest income, dividend, coupon income and unrealised gain)/ Average NAV (%) (not applicable) | C23: 2261
A24: II | B24: Các chỉ tiêu khác Other indicators | C24: 2262
A25: 1 | B25: Quy mô quỹ đầu kỳ Fund scale at the beginning of the period | C25: 2263 | D25: 56000000000 | E25: 56000000000
B26: Tổng giá trị chứng chỉ quỹ đang lưu hành đầu kỳ Total value of outstanding Fund Certificate at the beginning of period | C26: 2264 | D26: 56000000000 | E26: 56000000000
B27: Tổng số lượng chứng chỉ quỹ đang lưu hành đầu kỳ Total number of outstanding Fund Certificate at the beginning of period | C27: 2265 | D27: 5600000 | E27: 5600000
A28: 2 | B28: Thay đổi quy mô quỹ trong kỳ Change of Fund scale during the period | C28: 2266
B29: Thay đổi số lượng chứng chỉ quỹ trong kỳ Change of Number of Fund Certificates during the period | C29: 2266.1
B30: Thay đổi giá trị vốn trong kỳ (theo mệnh giá) Change in capital amount during the period (based on par value) | C30: 2266.2
B31: Số lượng chứng chỉ quỹ phát hành thêm trong kỳ Number of Fund Certificates subscribed during the period | C31: 2267
B32: Giá trị vốn huy động thêm trong kỳ (theo mệnh giá) Net subscription amount during the period (based on par value) | C32: 2268
B33: Số lượng chứng chỉ quỹ mua lại trong kỳ (theo mệnh giá) Number of Fund Certificates redeemed during the period | C33: 2269
B34: Giá trị vốn phải thanh toán trong kỳ khi đáp ứng lệnh của nhà đầu tư (theo mệnh giá) Net redemption amount during the period (based on par value) | C34: 2270
A35: 3 | B35: Quy mô quỹ cuối kỳ Fund scale at the end of the period | C35: 2271 | D35: 56000000000 | E35: 56000000000
B36: Tổng giá trị thị trường của quỹ đang lưu hành cuối kỳ (theo mệnh giá) Total value of outstanding Fund Certificate at the end of the period (based on par value) | C36: 2272 | D36: 56000000000 | E36: 56000000000
B37: Tổng số lượng chứng chỉ quỹ đang lưu hành cuối kỳ Total number of outstanding Fund Certificate at the end of the period | C37: 2273 | D37: 5600000 | E37: 5600000
A38: 4 | B38: Tỷ lệ nắm giữ chứng chỉ quỹ của công ty quản lý quỹ và người có liên quan cuối kỳ Fund Management Company and related parties' ownership ratio at the end of the period | C38: 2274 | D38: 0.7768 | E38: 0.84
A39: 5 | B39: Tỷ lệ nắm giữ chứng chỉ quỹ của 10 nhà đầu tư lớn nhất cuối kỳ Top 10 investors' ownership ratio at the end of the period | C39: 2275 | D39: 0.9977 | E39: 0.9994
A40: 6 | B40: Tỷ lệ nắm giữ chứng chỉ quỹ của nhà đầu tư nước ngoài cuối kỳ Foreign investors' ownership ratio at the end of the period | C40: 2276 | D40: 0 | E40: 0
A41: 7 | B41: Giá trị tài sản ròng trên một chứng chỉ quỹ cuối kỳ Net asset value per Fund Certificate at the end of period | C41: 2277 | D41: 9851.53 | E41: 10759.92
...

Sheet TB310815
E2: GENERAL LEDGER TRIAL BALANCE
E3: Fund | F3: SSIETF | G3: SSIAM HXN30 ETF | H3: Page : 1/1
A4: General Ledger Trail Balance To | E4: 30/09/2015 00:00 Currency VND | G4: DONG | H4: Report : SHJNA102
H5: 01/10/2015 08:37
E6: Nav Type Official | G6: Historical
A7: Account | B7: IFRS | C7: Suff Acc | D7: Maturity | E7: Description | G7: - - - - - - - - - - - - | H7: - Balance - - - - - - - - - - - - -
B8: Class | D8: Ccy Date | G8: Account Ccy | H8: Fund CcyVND
A9: 101100 | B9: - | D9: VND | E9: Investment - Equities | F9: VND | G9: 99270385463 | H9: 99270385463
A10: 120120 | B10: - | D10: VND | E10: Prepaid Expenses | F10: VND | G10: 5041096 | H10: 5041096
A11: 132100 | B11: - | C11: 7 | D11: VND | E11: Dividend Receivable | F11: VND | G11: 75750000 | H11: 75750000
A12: 140130 | B12: - | C12: 7 | D12: VND | E12: Cash in Bank STANDARD | F12: VND | G12: 697247341 | H12: 697247341
E13: CHARTERED BANK VIETNAM
A14: 161100 | B14: - | D14: VND | E14: Prov Unr P/L - Equities | F14: VND | G14: -20209998863 | H14: -20209998863
A15: 213103 | B15: - | D15: VND | E15: Exp Accrual - Admin Fee | F15: VND | G15: -20350000 | H15: -20350000
A16: 213105 | B16: - | D16: VND | E16: Exp Accrual - Audit Fee | F16: VND | G16: -47433628 | H16: -47433628
A17: 213107 | B17: - | D17: VND | E17: Exp Accrual - Custody Fee | F17: VND | G17: -10500000 | H17: -10500000
A18: 213108 | B18: - | D18: VND | E18: Exp Accrual - Directors Fee | F18: VND | G18: -4500000 | H18: -4500000
A19: 213110 | B19: - | D19: VND | E19: Exp Accrual - Fund Svces Fee | F19: VND | G19: -23100000 | H19: -23100000
A20: 213129 | B20: - | D20: VND | E20: Exp Accrual - Transfer Agt Fee | F20: VND | G20: -16500000 | H20: -16500000
A21: 213154 | B21: - | D21: VND | E21: Exp Accrual - Other Expense | F21: VND | G21: -7479452 | H21: -7479452
A22: 213162 | B22: - | D22: VND | E22: Accruals for Other Expenses | F22: VND | G22: -29917808 | H22: -29917808
A23: 213500 | B23: - | D23: VND | E23: Exp Accrual - Management | F23: VND | G23: -32794200 | H23: -32794200
E24: Fee
A25: 301000 | B25: - | D25: VND | E25: Capital - Subscription | F25: VND | G25: -103000000000 | H25: -103000000000
A26: 302000 | B26: - | D26: VND | E26: Capital - Redemption | F26: VND | G26: 2000000000 | H26: 2000000000
A27: 303102 | B27: - | D27: VND | E27: Unit Premium Reserve | F27: VND | G27: -39292726 | H27: -39292726
A28: 411100 | B28: - | D28: VND | E28: R/L G/P - Equities | F28: VND | G28: -906550970 | H28: -906550970
A29: 431100 | B29: - | D29: VND | E29: UR/L G/P - Equities | F29: VND | G29: 20209998863 | H29: 20209998863
A30: 451100 | B30: - | D30: VND | E30: Dividend Income - Equities | F30: VND | G30: -2943136162 | H30: -2943136162
A31: 511100 | B31: - | D31: VND | E31: R/L L/P - Equities | F31: VND | G31: 3608505507 | H31: 3608505507
A32: 511190 | B32: - | D32: VND | E32: R/L L/P - Exchange Traded | F32: VND | G32: 46000000 | H32: 46000000
E33: Fund
A34: 553103 | B34: - | D34: VND | E34: Admin Fee | F34: VND | G34: 203500000 | H34: 203500000
A35: 553105 | B35: - | D35: VND | E35: Audit Fee | F35: VND | G35: 47433628 | H35: 47433628
A36: 553107 | B36: - | D36: VND | E36: Custody Fee | F36: VND | G36: 105000000 | H36: 105000000
A37: 553108 | B37: - | D37: VND | E37: Directors Fee | F37: VND | G37: 120000000 | H37: 120000000
A38: 553110 | B38: - | D38: VND | E38: Fund Services Fee | F38: VND | G38: 231000000 | H38: 231000000
A39: 553115 | B39: - | D39: VND | E39: Preliminary Fee | F39: VND | G39: 61500000 | H39: 61500000
A40: 553122 | B40: - | D40: VND | E40: Safekeeping Fee | F40: VND | G40: 21528659 | H40: 21528659
A41: 553128 | B41: - | D41: VND | E41: Transaction Fee | F41: VND | G41: 13450000 | H41: 13450000
...

Sheet Sheet1
A1: 101100 | B1: Investment - Equities | C1: 97723061107
A2: 120120 | B2: Prepaid Expenses | C2: 11780821
A3: 132100 | B3: Dividend Receivable | C3: 344463000
A4: 140130 | B4: Cash in Bank STANDARD | C4: 721758470
B5: CHARTERED BANK VIETNAM
A6: 161100 | B6: Prov Unr P/L - Equities | C6: -11716973407
A7: 212261 | B7: Redemption fee payable- Distri | C7: -1665240
A8: 213103 | B8: Exp Accrual - Admin Fee | C8: -20350000
A9: 213105 | B9: Exp Accrual - Audit Fee | C9: -4247788
A10: 213107 | B10: Exp Accrual - Custody Fee | C10: -10500000
A11: 213108 | B11: Exp Accrual - Directors Fee | C11: -30000000
A12: 213110 | B12: Exp Accrual - Fund Svces Fee | C12: -23100000
A13: 213128 | B13: Exp Accrual - Transaction Fee | C13: -2800000
A14: 213129 | B14: Exp Accrual - Transfer Agt Fee | C14: -11000000
A15: 213154 | B15: Exp Accrual - Other Expense | C15: -4191780
A16: 213162 | B16: Accruals for Other Expenses | C16: -16547945
A17: 213500 | B17: Exp Accrual - Management | C17: -34960748
... A46: 555204 | B46: Printing & Anouncement | C46: 17358000

Sheet Sheet2
E2: GENERAL LEDGER TRIAL BALANCE
E3: Fund | F3: SSIETF | G3: Page : | H3: 1/2
A4: General Ledger Trail Balance To | E4: 30/06/2015 00:00 Currency VND | G4: Report | H4: : SHJNA102
H5: 01/07/2015 17:44
E6: Nav Type Official
A7: Account | B7: IFRS | C7: Suff Acc | D7: Maturity | E7: Description | G7: - - - - - - - - - - Balance - - - | H7: - - - - - - - - - -
B8: Class | D8: Ccy Date | G8: Account Ccy | H8: Fund CcyVND
A9: 101100 | B9: - | D9: VND | E9: Investment - Equities | F9: VND | G9: 97953061107 | H9: 97953061107 | I9: =VLOOKUP(A9,#REF!,7,0) -> #REF!
A10: 120120 | B10: - | D10: VND | E10: Prepaid Expenses | F10: VND | G10: 10082192 | H10: 10082192 | I10: =VLOOKUP(A10,#REF!,7,0) -> #REF!
A11: 132100 | B11: - | C11: 7 | D11: VND | E11: Dividend Receivable | F11: VND | G11: 236280000 | H11: 236280000 | I11: =VLOOKUP(A11,#REF!,7,0) -> #REF!
A12: 140130 | B12: - | C12: 7 | D12: VND | E12: Cash in Bank STANDARD | F12: VND | G12: 845470295 | H12: 845470295 | I12: =VLOOKUP(A12,#REF!,7,0) -> #REF!
E13: CHARTERED BANK VIETNAM | I13: =VLOOKUP(A13,#REF!,7,0) -> #REF!
A14: 161100 | B14: - | D14: VND | E14: Prov Unr P/L - Equities | F14: VND | G14: -9276506607 | H14: -9276506607 | I14: =VLOOKUP(A14,#REF!,7,0) -> #REF!
A15: 212261 | B15: - | D15: VND | E15: Redemption fee payable- Distri | F15: VND | G15: -1665240 | H15: -1665240 | I15: =VLOOKUP(A15,#REF!,7,0) -> #REF!
A16: 213103 | B16: - | D16: VND | E16: Exp Accrual - Admin Fee | F16: VND | G16: -20350000 | H16: -20350000 | I16: =VLOOKUP(A16,#REF!,7,0) -> #REF!
A17: 213105 | B17: - | D17: VND | E17: Exp Accrual - Audit Fee | F17: VND | G17: -14867257 | H17: -14867257 | I17: =VLOOKUP(A17,#REF!,7,0) -> #REF!
A18: 213107 | B18: - | D18: VND | E18: Exp Accrual - Custody Fee | F18: VND | G18: -10500000 | H18: -10500000 | I18: =VLOOKUP(A18,#REF!,7,0) -> #REF!
A19: 213108 | B19: - | D19: VND | E19: Exp Accrual - Directors Fee | F19: VND | G19: -4500000 | H19: -4500000 | I19: =VLOOKUP(A19,#REF!,7,0) -> #REF!
A20: 213110 | B20: - | D20: VND | E20: Exp Accrual - Fund Svces Fee | F20: VND | G20: -23100000 | H20: -23100000 | I20: =VLOOKUP(A20,#REF!,7,0) -> #REF!
A21: 213128 | B21: - | D21: VND | E21: Exp Accrual - Transaction Fee | F21: VND | G21: -100000 | H21: -100000 | I21: =VLOOKUP(A21,#REF!,7,0) -> #REF!
A22: 213129 | B22: - | D22: VND | E22: Exp Accrual - Transfer Agt Fee | F22: VND | G22: -16500000 | H22: -16500000 | I22: =VLOOKUP(A22,#REF!,7,0) -> #REF!
A23: 213154 | B23: - | D23: VND | E23: Exp Accrual - Other Expense | F23: VND | G23: -4958904 | H23: -4958904 | I23: =VLOOKUP(A23,#REF!,7,0) -> #REF!
A24: 213162 | B24: - | D24: VND | E24: Accruals for Other Expenses | F24: VND | G24: -19835616 | H24: -19835616 | I24: =VLOOKUP(A24,#REF!,7,0) -> #REF!
A25: 213500 | B25: - | D25: VND | E25: Exp Accrual - Management | F25: VND | G25: -37665310 | H25: -37665310 | I25: =VLOOKUP(A25,#REF!,7,0) -> #REF!
E26: Fee | I26: =VLOOKUP(A26,#REF!,7,0) -> #REF!
A27: 301000 | B27: - | D27: VND | E27: Capital - Subscription | F27: VND | G27: -103000000000 | H27: -103000000000 | I27: =VLOOKUP(A27,#REF!,7,0) -> #REF!
A28: 302000 | B28: - | D28: VND | E28: Capital - Redemption | F28: VND | G28: 2000000000 | H28: 2000000000 | I28: =VLOOKUP(A28,#REF!,7,0) -> #REF!
A29: 303102 | B29: - | D29: VND | E29: Unit Premium Reserve | F29: VND | G29: -39292726 | H29: -39292726 | I29: =VLOOKUP(A29,#REF!,7,0) -> #REF!
A30: 411100 | B30: - | D30: VND | E30: R/L G/P - Equities | F30: VND | G30: -121322718 | H30: -121322718 | I30: =VLOOKUP(A30,#REF!,7,0) -> #REF!
A31: 431100 | B31: - | D31: VND | E31: UR/L G/P - Equities | F31: VND | G31: 9276506607 | H31: 9276506607 | I31: =VLOOKUP(A31,#REF!,7,0) -> #REF!
A32: 451100 | B32: - | D32: VND | E32: Dividend Income - Equities | F32: VND | G32: -2116956162 | H32: -2116956162 | I32: =VLOOKUP(A32,#REF!,7,0) -> #REF!
A33: 511100 | B33: - | D33: VND | E33: R/L L/P - Equities | F33: VND | G33: 3383871611 | H33: 3383871611 | I33: =VLOOKUP(A33,#REF!,7,0) -> #REF!
A34: 511190 | B34: - | D34: VND | E34: R/L L/P - Exchange Traded | F34: VND | G34: 46000000 | H34: 46000000 | I34: =VLOOKUP(A34,#REF!,7,0) -> #REF!
E35: Fund | I35: =VLOOKUP(A35,#REF!,7,0) -> #REF!
A36: 553103 | B36: - | D36: VND | E36: Admin Fee | F36: VND | G36: 142450000 | H36: 142450000 | I36: =VLOOKUP(A36,#REF!,7,0) -> #REF!
A37: 553105 | B37: - | D37: VND | E37: Audit Fee | F37: VND | G37: 14867257 | H37: 14867257 | I37: =VLOOKUP(A37,#REF!,7,0) -> #REF!
A38: 553107 | B38: - | D38: VND | E38: Custody Fee | F38: VND | G38: 73500000 | H38: 73500000 | I38: =VLOOKUP(A38,#REF!,7,0) -> #REF!
A39: 553108 | B39: - | D39: VND | E39: Directors Fee | F39: VND | G39: 75000000 | H39: 75000000 | I39: =VLOOKUP(A39,#REF!,7,0) -> #REF!
A40: 553110 | B40: - | D40: VND | E40: Fund Services Fee | F40: VND | G40: 161700000 | H40: 161700000 | I40: =VLOOKUP(A40,#REF!,7,0) -> #REF!
A41: 553115 | B41: - | D41: VND | E41: Preliminary Fee | F41: VND | G41: 61500000 | H41: 61500000 | I41: =VLOOKUP(A41,#REF!,7,0) -> #REF!
...

Sheet Raw TB
E2: GENERAL LEDGER TRIAL BALANCE
F3: Fund | G3: SSIETF | H3: SSIAM HXN30 ETF | T3: Page :
A4: General Ledger Trail Balance To | E4: 31/07/2015 00:00 | F4: Currency VND | H4: DONG | T4: Report
T5: 05/08/2015 10:06
F6: Nav Type Official | H6: Historical
A7: Account | B7: IFRS | C7: Suff Acc | D7: Maturity | E7: Description | H7: - | I7: - | J7: - | K7: - | L7: - | M7: - | N7: - | O7: - | P7: - | Q7: - | R7: - | S7: - | T7: - Balance - - - | U7: - | AD7: -
B8: Class | D8: Ccy Date | Q8: Account Ccy
A9: 101100 | B9: - | D9: VND | E9: Investment - Equities | G9: VND | M9: 97118092668 | O9: 97118092668
A10: 120120 | B10: - | D10: VND | E10: Prepaid Expenses | G10: VND | O10: 8383562
A11: 132100 | B11: - | C11: 7 | D11: VND | E11: Dividend Receivable | G11: VND | M11: 8383562 | O11: 702960000
A12: 132150 | B12: - | C12: 7 | D12: VND | E12: Due From Broker - Equities | G12: VND | M12: 702960000 | O12: 853937170
A13: 140130 | B13: - | C13: 7 | D13: VND | E13: Cash in Bank STANDARD | G13: VND | M13: 984277096 | O13: 984277096 | P13: =O13-O12 -> 130339926
E14: CHARTERED BANK VIETNAM
